BEGIN:VCALENDAR
PRODID:-//AT Content Types//AT Event//EN
VERSION:2.0
METHOD:PUBLISH
BEGIN:VEVENT
DTSTAMP:20260420T052506Z
CREATED:20161206T213304Z
UID:ATEvent-7b6c86eedcc34d01ae1fbc537d69902c
LAST-MODIFIED:20161206T214759Z
SUMMARY:PauLLA & le MIPS au salon Asphodèle
DTSTART:20161209T130000Z
DTEND:20161211T180000Z
DESCRIPTION:L'association et le fablab auront un stand pendant deux jo
 urs et demi afin de présenter les logiciels libres en tant qu'alterna
 tive fiable et légère susceptible de prolonger la durée de vie des 
 ordinateurs personnels.
LOCATION:Parc des expositions de Pau
CATEGORIES:Asphodèle, FabLab, Conférence, MIPS-LAB
CONTACT:contact@lists.paulla.asso.fr
URL:http://www.salon-asphodele.com
CLASS:PUBLIC
END:VEVENT
END:VCALENDAR
