BEGIN:VCALENDAR
PRODID:-//AT Content Types//AT Event//EN
VERSION:1.0
BEGIN:VEVENT
DTSTART:20200128T180000Z
DTEND:20200128T225500Z
DCREATED:20200107T095120Z
UID:ATEvent-fac8da63c1f74e0baee5340fa5a8dea5
SEQUENCE:0
LAST-MODIFIED:20210218T194700Z
SUMMARY:Assemblée générale PauLLA 2020
DESCRIPTION:Convocation à l'assemblée Générale 2020 de l'associati
 on PauLLA
LOCATION:Salle Ossau\, Helioparc
PRIORITY:3
TRANSP:0
END:VEVENT
END:VCALENDAR
